BEGIN:VCALENDAR
VERSION:2.0
PRODID:-//Centrum Neuro-Integracji MIND I Inteligencja emocjonalna i Neuro-przywództwo - ECPv6.0.6.2//NONSGML v1.0//EN
CALSCALE:GREGORIAN
METHOD:PUBLISH
X-WR-CALNAME:Centrum Neuro-Integracji MIND I Inteligencja emocjonalna i Neuro-przywództwo
X-ORIGINAL-URL:https://www.neuro-integracja.pl
X-WR-CALDESC:Events for Centrum Neuro-Integracji MIND I Inteligencja emocjonalna i Neuro-przywództwo
REFRESH-INTERVAL;VALUE=DURATION:PT1H
X-Robots-Tag:noindex
X-PUBLISHED-TTL:PT1H
BEGIN:VTIMEZONE
TZID:Europe/Warsaw
BEGIN:DAYLIGHT
TZOFFSETFROM:+0100
TZOFFSETTO:+0200
TZNAME:CEST
DTSTART:20230326T010000
END:DAYLIGHT
BEGIN:STANDARD
TZOFFSETFROM:+0200
TZOFFSETTO:+0100
TZNAME:CET
DTSTART:20231029T010000
END:STANDARD
END:VTIMEZONE
BEGIN:VEVENT
DTSTART;TZID=Europe/Warsaw:20231030T090000
DTEND;TZID=Europe/Warsaw:20231030T160000
DTSTAMP:20260420T084928
CREATED:20230725T080533Z
LAST-MODIFIED:20230725T080533Z
UID:1921-1698656400-1698681600@www.neuro-integracja.pl
SUMMARY:Trening Pozytywnej Neuroplastyczności - szkolenie on-line
DESCRIPTION:Jeśli dzień za dniem praktykujemy np. niepokój czy niezadowolenie to po pewnym czasie stajemy się swego rodzaju ekspertami od niepokoju i niezadowolenia. \nJeśli zaś świadomie będziemy krok po kroku praktykowali te wewnętrzne zasoby\, których potrzebujemy (np. spokój\, siłę\, zadowolenie\, radość\, poczucie własnej wartości itp)\, to po jakimś czasie będziemy mogli zbudować trwałe struktury neuronalne\, odpowiedzialne za te cechy. Wtedy zwiększymy swój dobrostan i będzie nam łatwiej przechodzić przez wyzwania życiowe. \nPraktyka\, którą proponuje Rick Hanson\, twórca Treningu Pozytywnej Neuroplastyczności\, opiera się na wiedzy neurobiologicznej\, jest prosta i krótka. \nTermin: \n30-31.10.2023\, godz. 9-16\noraz 6.11.2023\, godz. 9-16 \nSpotkania odbywają się na platformie Zoom w formie warsztatowej z dużą ilością praktyki własnej i ćwiczeń w podgrupach. \nWięcej o TPN i zapisach: tutaj
URL:https://www.neuro-integracja.pl/aktualnosci/trening-pozytywnej-neuroplastycznosci-szkolenie-on-line/
END:VEVENT
END:VCALENDAR